BEGIN:VCALENDAR
VERSION:2.0
PRODID:-//Immanuelgemeinde Wolfsburg - ECPv6.15.18//NONSGML v1.0//EN
CALSCALE:GREGORIAN
METHOD:PUBLISH
X-WR-CALNAME:Immanuelgemeinde Wolfsburg
X-ORIGINAL-URL:https://immanuel-wob.de
X-WR-CALDESC:Veranstaltungen für Immanuelgemeinde Wolfsburg
REFRESH-INTERVAL;VALUE=DURATION:PT1H
X-Robots-Tag:noindex
X-PUBLISHED-TTL:PT1H
BEGIN:VTIMEZONE
TZID:Europe/Berlin
BEGIN:DAYLIGHT
TZOFFSETFROM:+0100
TZOFFSETTO:+0200
TZNAME:CEST
DTSTART:20250330T010000
END:DAYLIGHT
BEGIN:STANDARD
TZOFFSETFROM:+0200
TZOFFSETTO:+0100
TZNAME:CET
DTSTART:20251026T010000
END:STANDARD
BEGIN:DAYLIGHT
TZOFFSETFROM:+0100
TZOFFSETTO:+0200
TZNAME:CEST
DTSTART:20260329T010000
END:DAYLIGHT
BEGIN:STANDARD
TZOFFSETFROM:+0200
TZOFFSETTO:+0100
TZNAME:CET
DTSTART:20261025T010000
END:STANDARD
BEGIN:DAYLIGHT
TZOFFSETFROM:+0100
TZOFFSETTO:+0200
TZNAME:CEST
DTSTART:20270328T010000
END:DAYLIGHT
BEGIN:STANDARD
TZOFFSETFROM:+0200
TZOFFSETTO:+0100
TZNAME:CET
DTSTART:20271031T010000
END:STANDARD
END:VTIMEZONE
BEGIN:VEVENT
DTSTART;TZID=Europe/Berlin:20260417T093000
DTEND;TZID=Europe/Berlin:20260417T110000
DTSTAMP:20260421T103525
CREATED:20231227T153717Z
LAST-MODIFIED:20260408T203903Z
UID:10859-1776418200-1776423600@immanuel-wob.de
SUMMARY:Café Auszeit für Schwangere und junge Mütter
DESCRIPTION:✨ Eine kleine Auszeit für dich ✨ \nLiebe Mamis und Schwangere\, \nam 17.04. ist es wieder soweit! 💛 \nWir laden dich ganz herzlich zu unserem nächsten Café für Schwangere und Mamis mit Babys ein. \n📅 Wann? 17.04. \n🕤 Uhrzeit: 9:30 Uhr \n📍 Wo? Café Auszeit \nKomm vorbei\, tausch dich aus\, entspanne dich ein bisschen und genieße die Zeit in netter Gesellschaft. \nWir freuen uns auf dich! 🤍 \n  \n 
URL:https://immanuel-wob.de/event/cafe-auszeit-fuer-schwangere-und-junge-muetter-4/
LOCATION:Café Auszeit\, Dresdener Ring 99\, Wolfsburg\, Niedersachsen\, 38444\, Germany
CATEGORIES:Frauenarbeit
ATTACH;FMTTYPE=image/jpeg:https://immanuel-wob.de/wp-content/uploads/2023/12/IMG_9781.jpg
END:VEVENT
END:VCALENDAR