BEGIN:VCALENDAR
VERSION:2.0
PRODID:-//Immanuelgemeinde Wolfsburg - ECPv6.15.18//NONSGML v1.0//EN
CALSCALE:GREGORIAN
METHOD:PUBLISH
X-ORIGINAL-URL:https://immanuel-wob.de
X-WR-CALDESC:Veranstaltungen für Immanuelgemeinde Wolfsburg
REFRESH-INTERVAL;VALUE=DURATION:PT1H
X-Robots-Tag:noindex
X-PUBLISHED-TTL:PT1H
BEGIN:VTIMEZONE
TZID:Europe/Berlin
BEGIN:DAYLIGHT
TZOFFSETFROM:+0100
TZOFFSETTO:+0200
TZNAME:CEST
DTSTART:20230326T010000
END:DAYLIGHT
BEGIN:STANDARD
TZOFFSETFROM:+0200
TZOFFSETTO:+0100
TZNAME:CET
DTSTART:20231029T010000
END:STANDARD
BEGIN:DAYLIGHT
TZOFFSETFROM:+0100
TZOFFSETTO:+0200
TZNAME:CEST
DTSTART:20240331T010000
END:DAYLIGHT
BEGIN:STANDARD
TZOFFSETFROM:+0200
TZOFFSETTO:+0100
TZNAME:CET
DTSTART:20241027T010000
END:STANDARD
BEGIN:DAYLIGHT
TZOFFSETFROM:+0100
TZOFFSETTO:+0200
TZNAME:CEST
DTSTART:20250330T010000
END:DAYLIGHT
BEGIN:STANDARD
TZOFFSETFROM:+0200
TZOFFSETTO:+0100
TZNAME:CET
DTSTART:20251026T010000
END:STANDARD
END:VTIMEZONE
BEGIN:VEVENT
DTSTART;TZID=Europe/Berlin:20241117T100000
DTEND;TZID=Europe/Berlin:20241117T120000
DTSTAMP:20260421T103850
CREATED:20241013T092401Z
LAST-MODIFIED:20241013T093255Z
UID:11689-1731837600-1731844800@immanuel-wob.de
SUMMARY:Taufe und Taufkurs
DESCRIPTION:Start Taufunterricht: Freitag 11.10.2024 um 19.20 Uhr nach der Gebetstunde\nOrt: Teenyraum im 1. OG\nRückfragen: Edgar Diener 015127049858 oder edgar.diener@immanuel-wob.de \nDer Taufunterricht ist ein Glaubensgrundkurs und noch keine verbindliche Anmeldung zur Taufe. Jeder der mehr über den Glauben an Gott und die Glaubensgrundsätze der Immanuelgemeinde erfahren möchte ist herzlich eingeladen. Die Taufe findet am 17. November statt. \nAnmeldung zum Taufkurs: https://forms.gle/UH3EKPbWCAPcMgfU7
URL:https://immanuel-wob.de/event/taufe-immanuelgemeinde-wolfsburg-17-11-2024/
LOCATION:Immanuelgemeinde\, Dresdener Ring 99\, Wolfsburg\, 38444
ATTACH;FMTTYPE=image/jpeg:https://immanuel-wob.de/wp-content/uploads/2024/10/a6c94a9c-eb9d-4775-825a-68fe7865072d.jpg
END:VEVENT
END:VCALENDAR